BEGIN:VCALENDAR
VERSION:2.0
PRODID:-//D&#039;Ronda - ECPv6.2.9//NONSGML v1.0//EN
CALSCALE:GREGORIAN
METHOD:PUBLISH
X-ORIGINAL-URL:https://www.dronda.mx/site
X-WR-CALDESC:Eventos para D&#039;Ronda
REFRESH-INTERVAL;VALUE=DURATION:PT1H
X-Robots-Tag:noindex
X-PUBLISHED-TTL:PT1H
BEGIN:VTIMEZONE
TZID:America/Chicago
BEGIN:DAYLIGHT
TZOFFSETFROM:-0600
TZOFFSETTO:-0500
TZNAME:CDT
DTSTART:20230312T080000
END:DAYLIGHT
BEGIN:STANDARD
TZOFFSETFROM:-0500
TZOFFSETTO:-0600
TZNAME:CST
DTSTART:20231105T070000
END:STANDARD
END:VTIMEZONE
BEGIN:VEVENT
DTSTART;TZID=America/Chicago:20230921T180000
DTEND;TZID=America/Chicago:20230921T210000
DTSTAMP:20260425T053624
CREATED:20230921T031447Z
LAST-MODIFIED:20230921T031447Z
UID:1046-1695319200-1695330000@www.dronda.mx
SUMMARY:Una Tarde de Rondallas
DESCRIPTION:Celebremos juntos nuestras fiestas patrias en una Tarde de Rondallas. Participan: \n\nRondalla Diamantes de Xalapa\nRondalla Magistral\nRondalla Zorzal\nEx Integrantes de la Rondalla Universitaria\nRondalla Femenil Amaranto
URL:https://www.dronda.mx/site/event/una-tarde-de-rondallas/
LOCATION:Teatro J.J. Herrera\, Miguel Palacios 12\, Zona Centro\, Xalapa\, Veracruz\, 91000\, México
CATEGORIES:Encuentros y festivales
ATTACH;FMTTYPE=image/jpeg:https://www.dronda.mx/site/wp-content/uploads/2023/09/teatrojjherrera.jpg
END:VEVENT
END:VCALENDAR