BEGIN:VCALENDAR
VERSION:2.0
PRODID:-//D&#039;Ronda - ECPv6.2.9//NONSGML v1.0//EN
CALSCALE:GREGORIAN
METHOD:PUBLISH
X-ORIGINAL-URL:https://www.dronda.mx/site
X-WR-CALDESC:Eventos para D&#039;Ronda
REFRESH-INTERVAL;VALUE=DURATION:PT1H
X-Robots-Tag:noindex
X-PUBLISHED-TTL:PT1H
BEGIN:VTIMEZONE
TZID:UTC
BEGIN:STANDARD
TZOFFSETFROM:+0000
TZOFFSETTO:+0000
TZNAME:UTC
DTSTART:20220101T000000
END:STANDARD
END:VTIMEZONE
BEGIN:VEVENT
DTSTART;TZID=UTC:20221208T190000
DTEND;TZID=UTC:20221208T210000
DTSTAMP:20260425T200848
CREATED:20221109T212828Z
LAST-MODIFIED:20221109T212925Z
UID:145-1670526000-1670533200@www.dronda.mx
SUMMARY:Encuentro Nacional de Rondallas Irapuato 2022
DESCRIPTION:La Rondalla Voces de Irapuato te invita a su Encuentro Nacional de Rondallas Irapuato 2022\, con la participación de la Rondalla Femenil del Estado de Puebla\, la Rondalla Voces del Alma de Guadalajata y la Rondalla Universitaria de la UAQ.
URL:https://www.dronda.mx/site/event/encuentro-nacional-de-rondallas-irapuato-2022/
LOCATION:Teatro de la Ciudad Irapuato\, Álvaro Obregón\, De San José\, Barrio de San José\, Irapuato\, Guanajuato\, 36513\, México
CATEGORIES:Encuentros y festivales
END:VEVENT
END:VCALENDAR