BEGIN:VCALENDAR
VERSION:2.0
PRODID:-//D&#039;Ronda - ECPv6.2.9//NONSGML v1.0//EN
CALSCALE:GREGORIAN
METHOD:PUBLISH
X-ORIGINAL-URL:https://www.dronda.mx/site
X-WR-CALDESC:Eventos para D&#039;Ronda
REFRESH-INTERVAL;VALUE=DURATION:PT1H
X-Robots-Tag:noindex
X-PUBLISHED-TTL:PT1H
BEGIN:VTIMEZONE
TZID:America/Chicago
BEGIN:DAYLIGHT
TZOFFSETFROM:-0600
TZOFFSETTO:-0500
TZNAME:CDT
DTSTART:20230312T080000
END:DAYLIGHT
BEGIN:STANDARD
TZOFFSETFROM:-0500
TZOFFSETTO:-0600
TZNAME:CST
DTSTART:20231105T070000
END:STANDARD
END:VTIMEZONE
BEGIN:VEVENT
DTSTART;TZID=America/Chicago:20230421T180000
DTEND;TZID=America/Chicago:20230421T210000
DTSTAMP:20260425T121209
CREATED:20230419T024016Z
LAST-MODIFIED:20230419T160244Z
UID:915-1682100000-1682110800@www.dronda.mx
SUMMARY:7° Encuentro de Rondallas San Marcos de León
DESCRIPTION:Acompaña este viernes 21 de abril de 2023 en punto de las 18:00 horas (hora local) en el Salón Parroquial de San Marcos de León\, el 7° Encuentro de Rondallas San Marcos de León.
URL:https://www.dronda.mx/site/event/7-encuentro-de-rondallas-san-marcos-de-leon/
LOCATION:Parroquia San Marcos de León\, Francisco Sarabia No. 61\, San Marcos de León\, Veracruz\, 91605\, México
CATEGORIES:Encuentros y festivales
ATTACH;FMTTYPE=image/jpeg:https://www.dronda.mx/site/wp-content/uploads/2023/04/Imagen1-1.jpg
END:VEVENT
END:VCALENDAR