BEGIN:VCALENDAR
VERSION:2.0
PRODID:-//D&#039;Ronda - ECPv6.2.9//NONSGML v1.0//EN
CALSCALE:GREGORIAN
METHOD:PUBLISH
X-ORIGINAL-URL:https://www.dronda.mx/site
X-WR-CALDESC:Eventos para D&#039;Ronda
REFRESH-INTERVAL;VALUE=DURATION:PT1H
X-Robots-Tag:noindex
X-PUBLISHED-TTL:PT1H
BEGIN:VTIMEZONE
TZID:America/Chicago
BEGIN:DAYLIGHT
TZOFFSETFROM:-0600
TZOFFSETTO:-0500
TZNAME:CDT
DTSTART:20230312T080000
END:DAYLIGHT
BEGIN:STANDARD
TZOFFSETFROM:-0500
TZOFFSETTO:-0600
TZNAME:CST
DTSTART:20231105T070000
END:STANDARD
END:VTIMEZONE
BEGIN:VEVENT
DTSTART;TZID=America/Chicago:20230923T140000
DTEND;TZID=America/Chicago:20230924T200000
DTSTAMP:20260424T164416
CREATED:20230921T033002Z
LAST-MODIFIED:20230921T033004Z
UID:1051-1695477600-1695585600@www.dronda.mx
SUMMARY:XXIII Concurso Nacional de Rondallas Monterrey 2023
DESCRIPTION:No te pierdas la XXIII Edición del Concurso Nacional de Rondallas Monterrey 2023\, a celebrarse los días 23 y 24 de septiembre próximos\, en el Auditorio de la Facultad de Contaduría Pública y Administración (FACPYA) de la Universidad Autónoma de Nuevo León (UANL). \nConsulta la Convocatoria del XXIII Concurso Nacional de Rondallas Monterrey 2023.
URL:https://www.dronda.mx/site/event/xxiii-concurso-nacional-de-rondallas-monterrey-2023/
LOCATION:FACPYA-UANL\, Facultad de Contaduría Pública y Administración\, UANL© Av. Universidad s/n Cd. Universidad\, Monterrey\, Nuevo León\, 66455\, México
CATEGORIES:Concursos
ATTACH;FMTTYPE=image/jpeg:https://www.dronda.mx/site/wp-content/uploads/2023/09/facpya-uanl.jpg
END:VEVENT
END:VCALENDAR