BEGIN:VCALENDAR
VERSION:2.0
PRODID:-//D&#039;Ronda - ECPv6.2.9//NONSGML v1.0//EN
CALSCALE:GREGORIAN
METHOD:PUBLISH
X-WR-CALNAME:D&#039;Ronda
X-ORIGINAL-URL:https://www.dronda.mx/site
X-WR-CALDESC:Eventos para D&#039;Ronda
REFRESH-INTERVAL;VALUE=DURATION:PT1H
X-Robots-Tag:noindex
X-PUBLISHED-TTL:PT1H
BEGIN:VTIMEZONE
TZID:America/Chicago
BEGIN:DAYLIGHT
TZOFFSETFROM:-0600
TZOFFSETTO:-0500
TZNAME:CDT
DTSTART:20250309T080000
END:DAYLIGHT
BEGIN:STANDARD
TZOFFSETFROM:-0500
TZOFFSETTO:-0600
TZNAME:CST
DTSTART:20251102T070000
END:STANDARD
END:VTIMEZONE
BEGIN:VEVENT
DTSTART;TZID=America/Chicago:20250308T140000
DTEND;TZID=America/Chicago:20250308T150000
DTSTAMP:20260420T232511
CREATED:20250308T195318Z
LAST-MODIFIED:20250308T195318Z
UID:1649-1741442400-1741446000@www.dronda.mx
SUMMARY:Kamenike Showtime con la Rondalla del IPN Puebla
DESCRIPTION:🎶 Showtime con la Rondalla del IPN en Sonata Town Center 🎶 \nLa Rondalla del Instituto Politécnico Nacional se presenta en Kamenike Showtime\, un evento especial dentro del Sonata Women’s Weekend. \n¡No te lo pierdas!
URL:https://www.dronda.mx/site/event/kamenike-showtime-con-la-rondalla-del-ipn-puebla/
LOCATION:Sonata Town Center\, Gran Blvd. Lomas 301\, Lomas de Angelópolis\, San Andrés Cholula\, Puebla\, 72830\, Mexico
CATEGORIES:Conciertos
END:VEVENT
BEGIN:VEVENT
DTSTART;TZID=America/Chicago:20250308T190000
DTEND;TZID=America/Chicago:20250308T210000
DTSTAMP:20260420T232511
CREATED:20250308T193916Z
LAST-MODIFIED:20250308T193937Z
UID:1634-1741460400-1741467600@www.dronda.mx
SUMMARY:Bohemia con la Tradicional Rondalla Diamantina de Querétaro
DESCRIPTION:🎶 Bohemia con la Rondalla Diamantina de Querétaro 🎶 \nUna noche de música y romanticismo te espera con la Tradicional Rondalla Diamantina de Querétaro\, dirigida por Anselmo Vizcaya\, y el Trío Los Peregrinos como invitados especiales. \nDisfruta de este evento en el Centro Cultural Casa del Faldón y vive una velada inolvidable.
URL:https://www.dronda.mx/site/event/bohemia-con-la-tradicional-rondalla-diamantina-de-queretaro/
LOCATION:Centro Cultural Casa del Faldón\, C. Primavera 43\, San Sebastian\, 76165\, Santiago de Querétaro\, Querétaro\, 76165\, Mexico
CATEGORIES:Conciertos
END:VEVENT
END:VCALENDAR